BEGIN:VCALENDAR
VERSION:2.0
PRODID:-//Southwest Florida Parrot Head Club - ECPv6.15.20//NONSGML v1.0//EN
CALSCALE:GREGORIAN
METHOD:PUBLISH
X-ORIGINAL-URL:https://swflphc.com
X-WR-CALDESC:Events for Southwest Florida Parrot Head Club
REFRESH-INTERVAL;VALUE=DURATION:PT1H
X-Robots-Tag:noindex
X-PUBLISHED-TTL:PT1H
BEGIN:VTIMEZONE
TZID:America/New_York
BEGIN:DAYLIGHT
TZOFFSETFROM:-0500
TZOFFSETTO:-0400
TZNAME:EDT
DTSTART:20250309T070000
END:DAYLIGHT
BEGIN:STANDARD
TZOFFSETFROM:-0400
TZOFFSETTO:-0500
TZNAME:EST
DTSTART:20251102T060000
END:STANDARD
BEGIN:DAYLIGHT
TZOFFSETFROM:-0500
TZOFFSETTO:-0400
TZNAME:EDT
DTSTART:20260308T070000
END:DAYLIGHT
BEGIN:STANDARD
TZOFFSETFROM:-0400
TZOFFSETTO:-0500
TZNAME:EST
DTSTART:20261101T060000
END:STANDARD
BEGIN:DAYLIGHT
TZOFFSETFROM:-0500
TZOFFSETTO:-0400
TZNAME:EDT
DTSTART:20270314T070000
END:DAYLIGHT
BEGIN:STANDARD
TZOFFSETFROM:-0400
TZOFFSETTO:-0500
TZNAME:EST
DTSTART:20271107T060000
END:STANDARD
END:VTIMEZONE
BEGIN:VEVENT
DTSTART;TZID=America/New_York:20260307T100000
DTEND;TZID=America/New_York:20260307T170000
DTSTAMP:20260420T071213
CREATED:20260122T224712Z
LAST-MODIFIED:20260122T224712Z
UID:3065-1772877600-1772902800@swflphc.com
SUMMARY:Shrimp Parade
DESCRIPTION:We are joining with Margaritaville with the FT Myers Shrimp Parade. Save the date more info to follow.
URL:https://swflphc.com/event/shrimp-parade/
LOCATION:Margaritaville\, 251 Cresent st.\, Ft Myers beach\, FL\, 33931\, United States
ATTACH;FMTTYPE=image/png:https://swflphc.com/wp-content/uploads/2017/12/Primary-Logo-PNG.png
END:VEVENT
BEGIN:VEVENT
DTSTART;TZID=America/New_York:20260329T130000
DTEND;TZID=America/New_York:20260329T180000
DTSTAMP:20260420T071213
CREATED:20260107T205125Z
LAST-MODIFIED:20260107T205521Z
UID:3034-1774789200-1774807200@swflphc.com
SUMMARY:Spring Phling
DESCRIPTION:A Mini Pit Stop type party proceeds going to Animals of Cape Coral. Free event with Raffles and 50 -50 . Multiple Musicians will be playing for your entertainment. More info available on Facebook page closer to event. 
URL:https://swflphc.com/event/spring-phling/
LOCATION:Caloosahatchee Moose Lodge\, 419 Cape Coral PKY East\, Cape Coral\, United States
ATTACH;FMTTYPE=image/jpeg:https://swflphc.com/wp-content/uploads/2021/04/Terri-and-Beth.jpg
END:VEVENT
END:VCALENDAR