BEGIN:VCALENDAR
VERSION:2.0
PRODID:-//Southwest Florida Parrot Head Club - ECPv6.15.20//NONSGML v1.0//EN
CALSCALE:GREGORIAN
METHOD:PUBLISH
X-WR-CALNAME:Southwest Florida Parrot Head Club
X-ORIGINAL-URL:https://swflphc.com
X-WR-CALDESC:Events for Southwest Florida Parrot Head Club
REFRESH-INTERVAL;VALUE=DURATION:PT1H
X-Robots-Tag:noindex
X-PUBLISHED-TTL:PT1H
BEGIN:VTIMEZONE
TZID:America/New_York
BEGIN:DAYLIGHT
TZOFFSETFROM:-0500
TZOFFSETTO:-0400
TZNAME:EDT
DTSTART:20250309T070000
END:DAYLIGHT
BEGIN:STANDARD
TZOFFSETFROM:-0400
TZOFFSETTO:-0500
TZNAME:EST
DTSTART:20251102T060000
END:STANDARD
BEGIN:DAYLIGHT
TZOFFSETFROM:-0500
TZOFFSETTO:-0400
TZNAME:EDT
DTSTART:20260308T070000
END:DAYLIGHT
BEGIN:STANDARD
TZOFFSETFROM:-0400
TZOFFSETTO:-0500
TZNAME:EST
DTSTART:20261101T060000
END:STANDARD
BEGIN:DAYLIGHT
TZOFFSETFROM:-0500
TZOFFSETTO:-0400
TZNAME:EDT
DTSTART:20270314T070000
END:DAYLIGHT
BEGIN:STANDARD
TZOFFSETFROM:-0400
TZOFFSETTO:-0500
TZNAME:EST
DTSTART:20271107T060000
END:STANDARD
END:VTIMEZONE
BEGIN:VEVENT
DTSTART;TZID=America/New_York:20260211T123000
DTEND;TZID=America/New_York:20260211T150000
DTSTAMP:20260420T085802
CREATED:20260107T204804Z
LAST-MODIFIED:20260107T205602Z
UID:3032-1770813000-1770822000@swflphc.com
SUMMARY:Mini Golf Tournament
DESCRIPTION:Going to meet at Mellow Mushroom before at 1230 and after event. Playing Mini-Golf at 1 pm trophy for Winner. Come out and have some Phun!!
URL:https://swflphc.com/event/mini-golf-tournament/
LOCATION:Gator Mikes Family Fun Park\, 35 NE Pine Island road\, Cape Coral\, FL\, 33909\, United States
ATTACH;FMTTYPE=image/jpeg:https://swflphc.com/wp-content/uploads/2024/01/golf-scaled.jpg
END:VEVENT
BEGIN:VEVENT
DTSTART;TZID=America/New_York:20260220T150000
DTEND;TZID=America/New_York:20260220T163000
DTSTAMP:20260420T085802
CREATED:20260118T180142Z
LAST-MODIFIED:20260118T180142Z
UID:3058-1771599600-1771605000@swflphc.com
SUMMARY:Members Meeting
DESCRIPTION:Members Meeting at Dolphin Tiki. Bring new Ideas and come hear what the Club is up to in the coming Year!!
URL:https://swflphc.com/event/members-meeting-3/
LOCATION:Dolphin tiki bar and grill\, 1502 Miramar St.\, Cape Coral\, Florida\, 33904
ATTACH;FMTTYPE=image/jpeg:https://swflphc.com/wp-content/uploads/2023/01/parrot-photo1.jpg
END:VEVENT
END:VCALENDAR