BEGIN:VCALENDAR
VERSION:2.0
PRODID:-//Southwest Florida Parrot Head Club - ECPv6.15.20//NONSGML v1.0//EN
CALSCALE:GREGORIAN
METHOD:PUBLISH
X-WR-CALNAME:Southwest Florida Parrot Head Club
X-ORIGINAL-URL:https://swflphc.com
X-WR-CALDESC:Events for Southwest Florida Parrot Head Club
REFRESH-INTERVAL;VALUE=DURATION:PT1H
X-Robots-Tag:noindex
X-PUBLISHED-TTL:PT1H
BEGIN:VTIMEZONE
TZID:America/New_York
BEGIN:DAYLIGHT
TZOFFSETFROM:-0500
TZOFFSETTO:-0400
TZNAME:EDT
DTSTART:20200308T070000
END:DAYLIGHT
BEGIN:STANDARD
TZOFFSETFROM:-0400
TZOFFSETTO:-0500
TZNAME:EST
DTSTART:20201101T060000
END:STANDARD
BEGIN:DAYLIGHT
TZOFFSETFROM:-0500
TZOFFSETTO:-0400
TZNAME:EDT
DTSTART:20210314T070000
END:DAYLIGHT
BEGIN:STANDARD
TZOFFSETFROM:-0400
TZOFFSETTO:-0500
TZNAME:EST
DTSTART:20211107T060000
END:STANDARD
BEGIN:DAYLIGHT
TZOFFSETFROM:-0500
TZOFFSETTO:-0400
TZNAME:EDT
DTSTART:20220313T070000
END:DAYLIGHT
BEGIN:STANDARD
TZOFFSETFROM:-0400
TZOFFSETTO:-0500
TZNAME:EST
DTSTART:20221106T060000
END:STANDARD
BEGIN:DAYLIGHT
TZOFFSETFROM:-0500
TZOFFSETTO:-0400
TZNAME:EDT
DTSTART:20230312T070000
END:DAYLIGHT
BEGIN:STANDARD
TZOFFSETFROM:-0400
TZOFFSETTO:-0500
TZNAME:EST
DTSTART:20231105T060000
END:STANDARD
END:VTIMEZONE
BEGIN:VEVENT
DTSTART;TZID=America/New_York:20221030T120000
DTEND;TZID=America/New_York:20221030T210000
DTSTAMP:20260422T182927
CREATED:20220703T171910Z
LAST-MODIFIED:20221020T160931Z
UID:2529-1667131200-1667163600@swflphc.com
SUMMARY:PIT STOP 2022 Update
DESCRIPTION:  \nCome One come All to the 10th Annual Anniversary Pit Stop Party at the Dolphin Inn Tiki Hut 1502 Miramar St. in Cape Coral Florida 239-945-0060 . October 30th 2022 from Noon to 9 pm. FREE admission . Raffles 50-50s all for Alzheimer Association. Live Entertainment all Day ! Advance Hotel rooms available use the Code Parrot head when calling the Hotel. Limited availability. Schedule is SET \nEntertainers Tentatively Scheduled to appear Rudy Cox\, Beth Travers\, Jeff Randal\, Ray Boone\, Steve Bowles\, Dave Signs\, Darrell Clanton and Bad Habit\, Bill Crowley\, Reggie Starrett\, Sheree Cadre\, John McDonald\, Terri Hood\, Scotty Bryan\, Rudy Cox\, Don Middlebrook\, Mike Miller\, Paul Rousch\, Jack Mosley\, and MORE!! So on your way to Key West or if you can’t afford it this year we have you Covered.
URL:https://swflphc.com/event/pit-stop-2022-update/
LOCATION:Dolphin tiki bar and grill\, 1502 Miramar St.\, Cape Coral\, Florida\, 33904
CATEGORIES:PIT STOP PARTY 2023
ATTACH;FMTTYPE=image/jpeg:https://swflphc.com/wp-content/uploads/2022/07/10TH-ANNUAL-SWFL-PITSTOP-SCHEDULE-2022.jpg
END:VEVENT
BEGIN:VEVENT
DTSTART;TZID=America/New_York:20220925T110000
DTEND;TZID=America/New_York:20220925T130000
DTSTAMP:20260422T182927
CREATED:20220828T161346Z
LAST-MODIFIED:20220828T161346Z
UID:2559-1664103600-1664110800@swflphc.com
SUMMARY:Members Meeting for Pit Stop Party
DESCRIPTION:Come out to a meeting at the Tiki to discuss our upcoming Pit Stop Party. We need your Input and Help!
URL:https://swflphc.com/event/members-meeting-for-pit-stop-party/
LOCATION:Dolphin tiki bar and grill\, 1502 Miramar St.\, Cape Coral\, Florida\, 33904
ATTACH;FMTTYPE=image/jpeg:https://swflphc.com/wp-content/uploads/2022/07/pitstopflyer.jpeg
END:VEVENT
BEGIN:VEVENT
DTSTART;TZID=America/New_York:20220922T183000
DTEND;TZID=America/New_York:20220922T220000
DTSTAMP:20260422T182927
CREATED:20220828T161048Z
LAST-MODIFIED:20220916T175505Z
UID:2556-1663871400-1663884000@swflphc.com
SUMMARY:Phlocking/Comedy Night Canceled
DESCRIPTION:Comedy night at Anthony’s on the Blvd. This event is canceled due to the Owners Passing.
URL:https://swflphc.com/event/phlocking-comedy-night/
LOCATION:Anthony’s on the Blvd\, 1303 DEl Prado S\, Cape Coral\, FL\, 33990\, United States
ATTACH;FMTTYPE=image/jpeg:https://swflphc.com/wp-content/uploads/2017/02/Club-Logo-1.jpg
END:VEVENT
BEGIN:VEVENT
DTSTART;TZID=America/New_York:20220922T170000
DTEND;TZID=America/New_York:20220922T200000
DTSTAMP:20260422T182927
CREATED:20220920T194304Z
LAST-MODIFIED:20220920T194304Z
UID:2564-1663866000-1663876800@swflphc.com
SUMMARY:September Phlocking
DESCRIPTION:Phlocking at Seacraft Marinatown Fl Starting at 5 Music by Tabo and Hawks. Come have Fun.
URL:https://swflphc.com/event/september-phlocking/
LOCATION:Seacraft Marinatown\, 3440 Marinatown LN\, North Fort Myers\, FL\, 33903\, United States
ATTACH;FMTTYPE=image/jpeg:https://swflphc.com/wp-content/uploads/2017/02/Club-Logo-1.jpg
END:VEVENT
BEGIN:VEVENT
DTSTART;TZID=America/New_York:20220824T180000
DTEND;TZID=America/New_York:20220824T210000
DTSTAMP:20260422T182927
CREATED:20220720T210331Z
LAST-MODIFIED:20220720T210502Z
UID:2539-1661364000-1661374800@swflphc.com
SUMMARY:August Phlocking Number Two
DESCRIPTION:Heading to Burt’s the Bar with the Million Dollar View!! Entertainment provide by Rudy Cox. 
URL:https://swflphc.com/event/august-phlocking-number-two/
LOCATION:Burts\, 4271 Pine Island Road\, Matlacha\, FL\, 33993\, United States
ATTACH;FMTTYPE=image/jpeg:https://swflphc.com/wp-content/uploads/2021/04/FB_IMG_1619298347615.jpg
END:VEVENT
BEGIN:VEVENT
DTSTART;TZID=America/New_York:20220811T180000
DTEND;TZID=America/New_York:20220811T210000
DTSTAMP:20260422T182927
CREATED:20220720T205751Z
LAST-MODIFIED:20220720T205751Z
UID:2534-1660240800-1660251600@swflphc.com
SUMMARY:August Phlocking
DESCRIPTION:New Location for Phlocking trying to spread it around. Come have a couple of Cold Ones!
URL:https://swflphc.com/event/august-phlocking/
LOCATION:Big Storm Brewing\, 4721 SE 10th place\, Cape Coral\, FL\, 33904\, United States
ATTACH;FMTTYPE=image/png:https://swflphc.com/wp-content/uploads/2017/12/Primary-Logo-PNG.png
END:VEVENT
BEGIN:VEVENT
DTSTART;TZID=America/New_York:20220713T180000
DTEND;TZID=America/New_York:20220713T210000
DTSTAMP:20260422T182927
CREATED:20220612T170604Z
LAST-MODIFIED:20220612T170604Z
UID:2524-1657735200-1657746000@swflphc.com
SUMMARY:July Phlocking
DESCRIPTION:Returning to Fins with Paul Roush providing our entertainment. Hope to see You.
URL:https://swflphc.com/event/july-phlocking/
LOCATION:Fins\, 3422 Del Prado Blvd S\, Cape Coral\, 33904\, United States
ATTACH;FMTTYPE=image/jpeg:https://swflphc.com/wp-content/uploads/2021/04/FB_IMG_1619298250551.jpg
END:VEVENT
BEGIN:VEVENT
DTSTART;TZID=America/New_York:20220623T180000
DTEND;TZID=America/New_York:20220623T210000
DTSTAMP:20260422T182927
CREATED:20220612T170757Z
LAST-MODIFIED:20220612T170757Z
UID:2526-1656007200-1656018000@swflphc.com
SUMMARY:June Phlocking
DESCRIPTION:June Phlocking back at the Dolphin Inn Tiki Hut. Music provided by the Tiki.
URL:https://swflphc.com/event/june-phlocking-2/
LOCATION:Dolphin tiki bar and grill\, 1502 Miramar St.\, Cape Coral\, Florida\, 33904
ATTACH;FMTTYPE=image/jpeg:https://swflphc.com/wp-content/uploads/2017/02/Club-Logo.jpg
END:VEVENT
BEGIN:VEVENT
DTSTART;TZID=America/New_York:20220608T180000
DTEND;TZID=America/New_York:20220608T210000
DTSTAMP:20260422T182927
CREATED:20220525T162530Z
LAST-MODIFIED:20220525T162531Z
UID:2519-1654711200-1654722000@swflphc.com
SUMMARY:June Phlocking
DESCRIPTION:June Phlocking will be held at FINS with Paul Rousch providing the entertainment.
URL:https://swflphc.com/event/june-phlocking/
LOCATION:Fins\, 3422 Del Prado Blvd S\, Cape Coral\, 33904\, United States
ATTACH;FMTTYPE=image/jpeg:https://swflphc.com/wp-content/uploads/2021/04/FB_IMG_1619298250551.jpg
END:VEVENT
BEGIN:VEVENT
DTSTART;TZID=America/New_York:20220526T180000
DTEND;TZID=America/New_York:20220526T200000
DTSTAMP:20260422T182927
CREATED:20220425T145931Z
LAST-MODIFIED:20220425T145931Z
UID:2512-1653588000-1653595200@swflphc.com
SUMMARY:Sunset Beach Party
DESCRIPTION:Come join other Club members next to Time Square on Fort Myers Beach. Meeting anytime after 6 PM. Bring a beach Chair and your drink of Choice and watch the Beautiful Sunset.
URL:https://swflphc.com/event/sunset-beach-party/
LOCATION:Times Square Fort Myers Beach\, 1035 Estero Blvd\, Forth Myers Beach\, FL\, United States
ATTACH;FMTTYPE=image/jpeg:https://swflphc.com/wp-content/uploads/2018/10/tropicalxmas.jpg
END:VEVENT
BEGIN:VEVENT
DTSTART;TZID=America/New_York:20220521T090000
DTEND;TZID=America/New_York:20220521T230000
DTSTAMP:20260422T182927
CREATED:20220425T145428Z
LAST-MODIFIED:20220425T145429Z
UID:2510-1653123600-1653174000@swflphc.com
SUMMARY:Road Cleanup
DESCRIPTION:Our Monthly Road Cleanup At Dan’s Fan City come help fellow Parrotheads cleanup the roads of our Town.
URL:https://swflphc.com/event/road-cleanup-2/
LOCATION:Dan’s Fan City\, 3731 Del Prado Blvd S\, Cape Coral\, FL\, 33904\, United States
ATTACH;FMTTYPE=image/jpeg:https://swflphc.com/wp-content/uploads/2017/02/Club-Logo.jpg
END:VEVENT
BEGIN:VEVENT
DTSTART;TZID=America/New_York:20220512T170000
DTEND;TZID=America/New_York:20220512T200000
DTSTAMP:20260422T182927
CREATED:20220425T145149Z
LAST-MODIFIED:20220425T145149Z
UID:2508-1652374800-1652385600@swflphc.com
SUMMARY:May Phlocking at Goldy's
DESCRIPTION:Returning to Goldy’s for next Phlocking . Music to be provided by Rudy Cox starting at 5 PM
URL:https://swflphc.com/event/may-phlocking-at-goldys/
LOCATION:Goldy’s Chicken Shack\, 3015 SW Pine Island Rd\, Cape Coral\, FL\, 33991\, United States
ATTACH;FMTTYPE=image/jpeg:https://swflphc.com/wp-content/uploads/2021/04/FB_IMG_1619298347615.jpg
END:VEVENT
BEGIN:VEVENT
DTSTART;TZID=America/New_York:20220427T180000
DTEND;TZID=America/New_York:20220427T210000
DTSTAMP:20260422T182927
CREATED:20220326T211026Z
LAST-MODIFIED:20220326T212708Z
UID:2491-1651082400-1651093200@swflphc.com
SUMMARY:April Phlocking Number TWO
DESCRIPTION:The second Phlocking in April wll be at the Dolphin Tiki Hut starting at 6 Pm. Music to be provided by the Tiki and to be determined.
URL:https://swflphc.com/event/april-phlocking-number-two/
LOCATION:Dolphin tiki bar and grill\, 1502 Miramar St.\, Cape Coral\, Florida\, 33904
ATTACH;FMTTYPE=image/jpeg:https://swflphc.com/wp-content/uploads/ngg_featured/20161030_165956.jpg
END:VEVENT
BEGIN:VEVENT
DTSTART;TZID=America/New_York:20220420T150000
DTEND;TZID=America/New_York:20220420T170000
DTSTAMP:20260422T182927
CREATED:20220402T173059Z
LAST-MODIFIED:20220402T173100Z
UID:2503-1650466800-1650474000@swflphc.com
SUMMARY:SWFPHC Board Meeting
DESCRIPTION:Board member meeting
URL:https://swflphc.com/event/swfphc-board-meeting/
LOCATION:Stevie Tomatoes
ATTACH;FMTTYPE=image/jpeg:https://swflphc.com/wp-content/uploads/2017/02/Club-Logo.jpg
END:VEVENT
BEGIN:VEVENT
DTSTART;TZID=America/New_York:20220416T090000
DTEND;TZID=America/New_York:20220416T230000
DTSTAMP:20260422T182927
CREATED:20220326T211612Z
LAST-MODIFIED:20220326T212753Z
UID:2495-1650099600-1650150000@swflphc.com
SUMMARY:Road Cleanup
DESCRIPTION:Road cleanup for April meeting at Dan’s Fan City Cape Coral
URL:https://swflphc.com/event/road-cleanup/
LOCATION:Dan’s Fan City\, 3731 Del Prado Blvd S\, Cape Coral\, FL\, 33904\, United States
ATTACH;FMTTYPE=image/png:https://swflphc.com/wp-content/uploads/2017/02/Primary-Logo-PNG.png
END:VEVENT
BEGIN:VEVENT
DTSTART;TZID=America/New_York:20220414T180000
DTEND;TZID=America/New_York:20220414T210000
DTSTAMP:20260422T182927
CREATED:20220326T210359Z
LAST-MODIFIED:20220326T212815Z
UID:2488-1649959200-1649970000@swflphc.com
SUMMARY:April Phlocking
DESCRIPTION:The First April Phlocking will be at Torched Bar and Grill at 6 PM. Music provided by Torched and to be determined.
URL:https://swflphc.com/event/april-phlocking/
LOCATION:Torched Bar and Grill\, 2408 Surfside Blvd\, Cape Coral\, Florida\, 33991
ATTACH;FMTTYPE=image/jpeg:https://swflphc.com/wp-content/uploads/2017/02/Club-Logo.jpg
END:VEVENT
BEGIN:VEVENT
DTSTART;TZID=America/New_York:20220402T080000
DTEND;TZID=America/New_York:20220402T170000
DTSTAMP:20260422T182927
CREATED:20220326T211937Z
LAST-MODIFIED:20220326T213048Z
UID:2500-1648886400-1648918800@swflphc.com
SUMMARY:Ronald McDonald House
DESCRIPTION:Cooking at Ronald McDonald House all Positions Filled at this Time
URL:https://swflphc.com/event/ronald-mcdonald-house/
LOCATION:FL
ATTACH;FMTTYPE=image/png:https://swflphc.com/wp-content/uploads/2017/02/RMHC-Southwest-Florida.png
END:VEVENT
BEGIN:VEVENT
DTSTART;TZID=America/New_York:20220323T170000
DTEND;TZID=America/New_York:20220323T200000
DTSTAMP:20260422T182927
CREATED:20220313T220700Z
LAST-MODIFIED:20220313T220827Z
UID:2483-1648054800-1648065600@swflphc.com
SUMMARY:Southwest Florida Parrot head Phlocking
DESCRIPTION:Going back to Goldy’s for the next Phlocking we will have Margarita and Cheeseburger Specials. Please note this is a Wednesday and we are starting an hour earlier then normal 5 PM.. This gives us and extra Hour of Happy Hour Prices. Music provided by Terri Hood Toe in the Sand. Come on out and Join the Fun!!
URL:https://swflphc.com/event/southwest-florida-parrot-head-phlocking/
LOCATION:Goldy’s Chicken Shack\, 3015 SW Pine Island Rd\, Cape Coral\, FL\, 33991\, United States
ATTACH;FMTTYPE=image/jpeg:https://swflphc.com/wp-content/uploads/2017/02/Club-Logo.jpg
END:VEVENT
BEGIN:VEVENT
DTSTART;TZID=America/New_York:20220319T090000
DTEND;TZID=America/New_York:20220319T110000
DTSTAMP:20260422T182927
CREATED:20220225T183500Z
LAST-MODIFIED:20220225T183752Z
UID:2479-1647680400-1647687600@swflphc.com
SUMMARY:March Road Cleanup
DESCRIPTION:Road Cleanup March 19 th at Dan’s Fan City Cape Coral 9 am to 11 am.
URL:https://swflphc.com/event/march-road-cleanup/
LOCATION:FL
ATTACH;FMTTYPE=image/png:https://swflphc.com/wp-content/uploads/2017/12/Primary-Logo-PNG.png
END:VEVENT
BEGIN:VEVENT
DTSTART;TZID=America/New_York:20220310T180000
DTEND;TZID=America/New_York:20220310T210000
DTSTAMP:20260422T182927
CREATED:20220221T202314Z
LAST-MODIFIED:20220221T203540Z
UID:2475-1646935200-1646946000@swflphc.com
SUMMARY:March Happy Hour at Torched
DESCRIPTION:
URL:https://swflphc.com/event/march-happy-hour-at-torched/
LOCATION:Torched Bar and Grill\, 2408 Surfside Blvd\, Cape Coral\, Florida\, 33991
ATTACH;FMTTYPE=image/png:https://swflphc.com/wp-content/uploads/2017/02/Hero-Image-with-Logo-PNG.png
END:VEVENT
BEGIN:VEVENT
DTSTART;TZID=America/New_York:20220223T180000
DTEND;TZID=America/New_York:20220223T210000
DTSTAMP:20260422T182927
CREATED:20220128T182207Z
LAST-MODIFIED:20220128T182207Z
UID:2468-1645639200-1645650000@swflphc.com
SUMMARY:February Happy Hour
DESCRIPTION:Happy Hour at Goldys Chicken shack Music provided by Toe In The Sand Club Specials will be provided!! This is a Wednesday Happy Hour.
URL:https://swflphc.com/event/february-happy-hour/
LOCATION:Goldy’s Chicken Shack\, 3015 SW Pine Island Rd\, Cape Coral\, FL\, 33991\, United States
END:VEVENT
BEGIN:VEVENT
DTSTART;TZID=America/New_York:20220120T180000
DTEND;TZID=America/New_York:20220120T210000
DTSTAMP:20260422T182927
CREATED:20211222T180609Z
LAST-MODIFIED:20211222T180853Z
UID:2442-1642701600-1642712400@swflphc.com
SUMMARY:January Happy Hour Torched Bar and Grill
DESCRIPTION:Happy Hour at Torched Bar and Grill the Old Woody’s . Bar is providing Musician unknown at this time. 
URL:https://swflphc.com/event/january-happy-hour/
LOCATION:Torched Bar and Grill\, 2408 Surfside Blvd\, Cape Coral\, Florida\, 33991
END:VEVENT
BEGIN:VEVENT
DTSTART;TZID=America/New_York:20220115T113000
DTEND;TZID=America/New_York:20220115T143000
DTSTAMP:20260422T182927
CREATED:20211120T162135Z
LAST-MODIFIED:20211120T162426Z
UID:2422-1642246200-1642257000@swflphc.com
SUMMARY:Pizza Party at Overtime Pizzeria and Sports Pub
DESCRIPTION:Club Pizza Party for Members Only Pizza provide by the Club.
URL:https://swflphc.com/event/pizza-party-at-overtime-pizzeria-and-sports-pub/
LOCATION:FL
ATTACH;FMTTYPE=image/png:https://swflphc.com/wp-content/uploads/2017/12/Primary-Logo-PNG.png
END:VEVENT
BEGIN:VEVENT
DTSTART;TZID=America/New_York:20211209T180000
DTEND;TZID=America/New_York:20211209T210000
DTSTAMP:20260422T182927
CREATED:20211120T154727Z
LAST-MODIFIED:20211120T155550Z
UID:2414-1639072800-1639083600@swflphc.com
SUMMARY:Christmas Party
DESCRIPTION:Music by Toe in the Sand
URL:https://swflphc.com/event/christmas-party/
LOCATION:Goldy’s Chicken Shack\, 3015 SW Pine Island Rd\, Cape Coral\, FL\, 33991\, United States
ATTACH;FMTTYPE=image/jpeg:https://swflphc.com/wp-content/uploads/2021/11/trop_santa-e1637423729480.jpg
END:VEVENT
END:VCALENDAR