BEGIN:VCALENDAR
VERSION:2.0
PRODID:-//Southwest Florida Parrot Head Club - ECPv6.15.20//NONSGML v1.0//EN
CALSCALE:GREGORIAN
METHOD:PUBLISH
X-WR-CALNAME:Southwest Florida Parrot Head Club
X-ORIGINAL-URL:https://swflphc.com
X-WR-CALDESC:Events for Southwest Florida Parrot Head Club
REFRESH-INTERVAL;VALUE=DURATION:PT1H
X-Robots-Tag:noindex
X-PUBLISHED-TTL:PT1H
BEGIN:VTIMEZONE
TZID:America/New_York
BEGIN:DAYLIGHT
TZOFFSETFROM:-0500
TZOFFSETTO:-0400
TZNAME:EDT
DTSTART:20220313T070000
END:DAYLIGHT
BEGIN:STANDARD
TZOFFSETFROM:-0400
TZOFFSETTO:-0500
TZNAME:EST
DTSTART:20221106T060000
END:STANDARD
BEGIN:DAYLIGHT
TZOFFSETFROM:-0500
TZOFFSETTO:-0400
TZNAME:EDT
DTSTART:20230312T070000
END:DAYLIGHT
BEGIN:STANDARD
TZOFFSETFROM:-0400
TZOFFSETTO:-0500
TZNAME:EST
DTSTART:20231105T060000
END:STANDARD
BEGIN:DAYLIGHT
TZOFFSETFROM:-0500
TZOFFSETTO:-0400
TZNAME:EDT
DTSTART:20240310T070000
END:DAYLIGHT
BEGIN:STANDARD
TZOFFSETFROM:-0400
TZOFFSETTO:-0500
TZNAME:EST
DTSTART:20241103T060000
END:STANDARD
BEGIN:DAYLIGHT
TZOFFSETFROM:-0500
TZOFFSETTO:-0400
TZNAME:EDT
DTSTART:20250309T070000
END:DAYLIGHT
BEGIN:STANDARD
TZOFFSETFROM:-0400
TZOFFSETTO:-0500
TZNAME:EST
DTSTART:20251102T060000
END:STANDARD
END:VTIMEZONE
BEGIN:VEVENT
DTSTART;TZID=America/New_York:20240815T170000
DTEND;TZID=America/New_York:20240815T210000
DTSTAMP:20260420T194617
CREATED:20240730T005314Z
LAST-MODIFIED:20240730T005351Z
UID:2820-1723741200-1723755600@swflphc.com
SUMMARY:Margaritaville Phlocking
DESCRIPTION:Phlocking at Fins Beach Club come take a swim no charge for Ladies and Gentleman with Club ID. Should be Fun come out and support your club!
URL:https://swflphc.com/event/margaritaville-phlocking/
LOCATION:Margaritaville\, 251 Cresent st.\, Ft Myers beach\, FL\, 33931\, United States
ATTACH;FMTTYPE=image/jpeg:https://swflphc.com/wp-content/uploads/2024/05/conga.jpg
END:VEVENT
BEGIN:VEVENT
DTSTART;TZID=America/New_York:20240725T170000
DTEND;TZID=America/New_York:20240725T210000
DTSTAMP:20260420T194617
CREATED:20240610T231234Z
LAST-MODIFIED:20240610T231234Z
UID:2810-1721926800-1721941200@swflphc.com
SUMMARY:July Phlocking
DESCRIPTION:Partying at Torched the band will be Resolutions come join us as we return to this location.
URL:https://swflphc.com/event/july-phlocking-2/
LOCATION:Torched Bar and Grill\, 2408 Surfside Blvd\, Cape Coral\, Florida\, 33991
ATTACH;FMTTYPE=image/jpeg:https://swflphc.com/wp-content/uploads/2023/01/parrot-photo1.jpg
END:VEVENT
BEGIN:VEVENT
DTSTART;TZID=America/New_York:20240613T160000
DTEND;TZID=America/New_York:20240613T210000
DTSTAMP:20260420T194617
CREATED:20240610T230947Z
LAST-MODIFIED:20240610T230948Z
UID:2807-1718294400-1718312400@swflphc.com
SUMMARY:June Phlocking 2
DESCRIPTION:Meeting at Margaritaville 4 to 9 pm for drinks and a swim. Ladies are Free men are $10.
URL:https://swflphc.com/event/june-phlocking-2-2/
LOCATION:Margaritaville\, 251 Cresent st.\, Ft Myers beach\, FL\, 33931\, United States
ATTACH;FMTTYPE=image/jpeg:https://swflphc.com/wp-content/uploads/2024/05/margaritaopen-1.jpg
END:VEVENT
BEGIN:VEVENT
DTSTART;TZID=America/New_York:20240610T080000
DTEND;TZID=America/New_York:20240610T170000
DTSTAMP:20260420T194617
CREATED:20240610T231853Z
LAST-MODIFIED:20240610T231853Z
UID:2814-1718006400-1718038800@swflphc.com
SUMMARY:June Phlocking 1
DESCRIPTION:Going to Mistos Bar and Grill Live Music Food and Drink Specials . 2 for 1 Martinis.  Trying something new give it a try!
URL:https://swflphc.com/event/june-phlocking-1/
LOCATION:Mistos Bar and Grill\, 231 Del Prado S\, Cape Coral\, Florida\, United States
ATTACH;FMTTYPE=image/jpeg:https://swflphc.com/wp-content/uploads/2017/02/Club-Logo.jpg
END:VEVENT
BEGIN:VEVENT
DTSTART;TZID=America/New_York:20240530T180000
DTEND;TZID=America/New_York:20240530T200000
DTSTAMP:20260420T194617
CREATED:20240516T144837Z
LAST-MODIFIED:20240516T144838Z
UID:2760-1717092000-1717099200@swflphc.com
SUMMARY:Sunset Festival
DESCRIPTION:Gathering at Yucatan Beach Stand before heading to beach near Time Square for Sunset. 
URL:https://swflphc.com/event/sunset-festival/
LOCATION:Times Square Fort Myers Beach\, 1035 Estero Blvd\, Forth Myers Beach\, FL\, United States
ATTACH;FMTTYPE=image/jpeg:https://swflphc.com/wp-content/uploads/2018/10/tropicalxmas.jpg
END:VEVENT
BEGIN:VEVENT
DTSTART;TZID=America/New_York:20240516T180000
DTEND;TZID=America/New_York:20240516T210000
DTSTAMP:20260420T194617
CREATED:20240516T154907Z
LAST-MODIFIED:20240516T155034Z
UID:2798-1715882400-1715893200@swflphc.com
SUMMARY:May Phlocking
DESCRIPTION:
URL:https://swflphc.com/event/may-phlocking-2/
LOCATION:Hurricane Grill and Wings\, 756 SW Pine Island road\, Cape Coral\, FL\, 33991\, United States
ATTACH;FMTTYPE=image/jpeg:https://swflphc.com/wp-content/uploads/2024/05/terri3-scaled.jpg
END:VEVENT
BEGIN:VEVENT
DTSTART;TZID=America/New_York:20240511T180500
DTEND;TZID=America/New_York:20240511T213000
DTSTAMP:20260420T194617
CREATED:20240320T174655Z
LAST-MODIFIED:20240320T174655Z
UID:2752-1715450700-1715463000@swflphc.com
SUMMARY:Margaritaville Night with the Mighty Mussels
DESCRIPTION:Club is getting a Suite at the Mighty Mussels game. Tickets are $35 each for the Suite and Food. Trop Rock Junkies will be playing after the game. Please email Darlene Hesson  if interested darlenehesson@gmail.com. You must pay in advance the suite hold 28 people. We have 2 Free parking passes that we will raffle off. 
URL:https://swflphc.com/event/margaritaville-night-with-the-mighty-mussels/
LOCATION:Hammond Staduim\, 14400 Six Mile Cypress Pkwy\, Fort Myers\, Florida\, 33912
ATTACH;FMTTYPE=image/png:https://swflphc.com/wp-content/uploads/2017/02/Primary-Logo-PNG.png
END:VEVENT
BEGIN:VEVENT
DTSTART;TZID=America/New_York:20240427T130000
DTEND;TZID=America/New_York:20240427T170000
DTSTAMP:20260420T194617
CREATED:20240220T184403Z
LAST-MODIFIED:20240220T184403Z
UID:2743-1714222800-1714237200@swflphc.com
SUMMARY:Big Phlocking April
DESCRIPTION:Wow the Club is having a Big event! Four Musicians Beth Travers\, Rudy Cox\, Terri Hood and the one and only Scotty Bryan. Bring a chair for overflow but plenty of seats available. 
URL:https://swflphc.com/event/big-phlocking-april/
LOCATION:Caloosahatchee Moose Lodge\, 419 Cape Coral PKY East\, Cape Coral\, United States
ATTACH;FMTTYPE=image/jpeg:https://swflphc.com/wp-content/uploads/2017/02/Club-Logo.jpg
END:VEVENT
BEGIN:VEVENT
DTSTART;TZID=America/New_York:20240420T090000
DTEND;TZID=America/New_York:20240420T110000
DTSTAMP:20260420T194617
CREATED:20240320T173610Z
LAST-MODIFIED:20240320T173610Z
UID:2748-1713603600-1713610800@swflphc.com
SUMMARY:Road Cleanup
DESCRIPTION:Come out and help other Parrot Heads cleanup up our Community and possibly get together for Brunch afterwards. Supplies will be provided by the Club.
URL:https://swflphc.com/event/road-cleanup-5/
LOCATION:Dan’s Fan City\, 3731 Del Prado Blvd S\, Cape Coral\, FL\, 33904\, United States
ATTACH;FMTTYPE=image/jpeg:https://swflphc.com/wp-content/uploads/2023/01/parrot-photo1.jpg
END:VEVENT
BEGIN:VEVENT
DTSTART;TZID=America/New_York:20240418T173000
DTEND;TZID=America/New_York:20240418T203000
DTSTAMP:20260420T194617
CREATED:20240401T175436Z
LAST-MODIFIED:20240401T175436Z
UID:2756-1713461400-1713472200@swflphc.com
SUMMARY:April Phlocking
DESCRIPTION:Tiki Bash at the Wicked Dolphin Live music by the Family Band Jackson.
URL:https://swflphc.com/event/april-phlocking-3/
LOCATION:Wicked Dolphin Distillery\, 131 SW 3rd Place\, Cape Coral\, FL\, 33991\, United States
ATTACH;FMTTYPE=image/jpeg:https://swflphc.com/wp-content/uploads/2023/01/parrot-photo1.jpg
END:VEVENT
BEGIN:VEVENT
DTSTART;TZID=America/New_York:20240328T180000
DTEND;TZID=America/New_York:20240328T210000
DTSTAMP:20260420T194617
CREATED:20240220T183846Z
LAST-MODIFIED:20240220T183846Z
UID:2740-1711648800-1711659600@swflphc.com
SUMMARY:March Phlocking
DESCRIPTION:Going back to Hurricanes Bar and Grill Toe in the Sand will be performing for us. Should be Fun support your Club.
URL:https://swflphc.com/event/march-phlocking-2/
LOCATION:Hurricane Grill and Wings\, 756 SW Pine Island road\, Cape Coral\, FL\, 33991\, United States
ATTACH;FMTTYPE=image/jpeg:https://swflphc.com/wp-content/uploads/2021/05/demo.jpg
END:VEVENT
BEGIN:VEVENT
DTSTART;TZID=America/New_York:20240224T090000
DTEND;TZID=America/New_York:20240224T103000
DTSTAMP:20260420T194617
CREATED:20240202T215251Z
LAST-MODIFIED:20240202T215251Z
UID:2733-1708765200-1708770600@swflphc.com
SUMMARY:Road Cleanup
DESCRIPTION:Come help keep our environment clean and Nice.  Followed up by usually a Brunch. Materials are supplied. 
URL:https://swflphc.com/event/road-cleanup-4/
LOCATION:Dan’s Fan City\, 3731 Del Prado Blvd S\, Cape Coral\, FL\, 33904\, United States
ATTACH;FMTTYPE=image/jpeg:https://swflphc.com/wp-content/uploads/2017/02/Club-Logo.jpg
END:VEVENT
BEGIN:VEVENT
DTSTART;TZID=America/New_York:20240210T140000
DTEND;TZID=America/New_York:20240210T170000
DTSTAMP:20260420T194617
CREATED:20240202T215744Z
LAST-MODIFIED:20240202T215744Z
UID:2735-1707573600-1707584400@swflphc.com
SUMMARY:February Phlocking number Two
DESCRIPTION:Party at the Rum Bucket music provided by Steve Bowles. Please bring Chairs.
URL:https://swflphc.com/event/february-phlocking-number-two/
LOCATION:Rum Bucket\, 5150 Buckingham Rd.\, Ft. Myers\, FL\, United States
ATTACH;FMTTYPE=image/jpeg:https://swflphc.com/wp-content/uploads/2021/04/FB_IMG_1619298234038.jpg
END:VEVENT
BEGIN:VEVENT
DTSTART;TZID=America/New_York:20240117T140000
DTEND;TZID=America/New_York:20240117T170000
DTSTAMP:20260420T194617
CREATED:20240103T184410Z
LAST-MODIFIED:20240103T184411Z
UID:2697-1705500000-1705510800@swflphc.com
SUMMARY:January Phlocking Mini Golf
DESCRIPTION:Come Join the Club at our First Mini Gold Tournament at Gator Mikes in Cape Coral. Get your tickets at the event or buy them at a Big Discount of Groupon. We will be teeing Off at 2 PM . Keep score for Bragging rights at the 19th Hole.  Latitude 78 is the bar at the 19th hole.  If you don’t wish to play golf just meet us for drinks! Come see the Dinosaurs and the exploding Volcano. Support your Club make new Friends.  
URL:https://swflphc.com/event/january-phlocking-mini-golf/
LOCATION:Gator Mikes Family Fun Park\, 35 NE Pine Island road\, Cape Coral\, FL\, 33909\, United States
ATTACH;FMTTYPE=image/jpeg:https://swflphc.com/wp-content/uploads/2024/01/golf-scaled.jpg
END:VEVENT
BEGIN:VEVENT
DTSTART;TZID=America/New_York:20231207T160000
DTEND;TZID=America/New_York:20231207T200000
DTSTAMP:20260420T194617
CREATED:20231107T154546Z
LAST-MODIFIED:20231121T181250Z
UID:2686-1701964800-1701979200@swflphc.com
SUMMARY:Christmas Party Phlocking
DESCRIPTION:Club party at new Location. Music provided by Scotty Bryan . Also collecting Toys for Toys for Tots.  Ornament exchange between members will also be taking place! Come join Us.
URL:https://swflphc.com/event/christmas-party-phlocking/
LOCATION:FL
ATTACH;FMTTYPE=image/png:https://swflphc.com/wp-content/uploads/2017/02/Hero-Image-with-Logo-PNG.png
END:VEVENT
BEGIN:VEVENT
DTSTART;TZID=America/New_York:20231118T140000
DTEND;TZID=America/New_York:20231118T170000
DTSTAMP:20260420T194617
CREATED:20231107T154348Z
LAST-MODIFIED:20231107T154348Z
UID:2683-1700316000-1700326800@swflphc.com
SUMMARY:Ronald McDonald House
DESCRIPTION:Our Club helping others.  
URL:https://swflphc.com/event/ronald-mcdonald-house-3/
LOCATION:Ronald McDonald House\, 16100 Roserush CT\, FT Myers\, Florida\, 33908
ATTACH;FMTTYPE=image/png:https://swflphc.com/wp-content/uploads/2017/02/RMHC-Southwest-Florida.png
END:VEVENT
BEGIN:VEVENT
DTSTART;TZID=America/New_York:20231118T080000
DTEND;TZID=America/New_York:20231118T170000
DTSTAMP:20260420T194617
CREATED:20230925T170959Z
LAST-MODIFIED:20230925T171000Z
UID:2673-1700294400-1700326800@swflphc.com
SUMMARY:Ronald McDonald House Cooking
DESCRIPTION:We are scheduled to cook for the Families at Ronald McDonald house. Starting at 8 am.  We need 6 volunteers. RSVP to Darlinehesson@gmail.com
URL:https://swflphc.com/event/ronald-mcdonald-house-cooking/
LOCATION:Ronald McDonald House\, 16100 Roserush CT\, FT Myers\, Florida\, 33908
ATTACH;FMTTYPE=image/png:https://swflphc.com/wp-content/uploads/2017/02/RMHC-Southwest-Florida.png
END:VEVENT
BEGIN:VEVENT
DTSTART;TZID=America/New_York:20231116T170000
DTEND;TZID=America/New_York:20231116T200000
DTSTAMP:20260420T194617
CREATED:20231107T154145Z
LAST-MODIFIED:20231107T154146Z
UID:2681-1700154000-1700164800@swflphc.com
SUMMARY:November Phlocking
DESCRIPTION:Partying with a purpose again . Come out and have some Fun.
URL:https://swflphc.com/event/november-phlocking-2/
LOCATION:Wicked Dolphin\, 131 SW 3rd PL\, Cape Coral\, FL\, 33991
ATTACH;FMTTYPE=image/png:https://swflphc.com/wp-content/uploads/2017/12/Primary-Logo-PNG.png
END:VEVENT
BEGIN:VEVENT
DTSTART;TZID=America/New_York:20231028T090000
DTEND;TZID=America/New_York:20231028T110000
DTSTAMP:20260420T194617
CREATED:20230911T202610Z
LAST-MODIFIED:20230911T202611Z
UID:2651-1698483600-1698490800@swflphc.com
SUMMARY:Road Cleanup
DESCRIPTION:Come help keep our neighborhood Clean and have some Fun with other Parrotheads. 
URL:https://swflphc.com/event/road-cleanup-3/
LOCATION:Dan’s Fan City\, 3731 Del Prado Blvd S\, Cape Coral\, FL\, 33904\, United States
ATTACH;FMTTYPE=image/jpeg:https://swflphc.com/wp-content/uploads/2023/01/parrot-photo1.jpg
END:VEVENT
BEGIN:VEVENT
DTSTART;TZID=America/New_York:20231022T130000
DTEND;TZID=America/New_York:20231022T180000
DTSTAMP:20260420T194617
CREATED:20230624T175033Z
LAST-MODIFIED:20230624T175033Z
UID:2640-1697979600-1697997600@swflphc.com
SUMMARY:One Particular Phlocking
DESCRIPTION:Benefit for Alzheimer’s and Big Hearts for Big Dogs. Live music provided by Don Middlebrook Terri Hood Scotty Bryan Rudy Cox Beth Travers Steve Bowles Dave Signs. Food Drinks Raffles 50-50 etc.
URL:https://swflphc.com/event/one-particular-phlocking/
LOCATION:Caloosahatchee Moose Lodge\, 419 Cape Coral PKY East\, Cape Coral\, United States
ATTACH;FMTTYPE=image/jpeg:https://swflphc.com/wp-content/uploads/2021/04/Terri-and-Beth.jpg
END:VEVENT
BEGIN:VEVENT
DTSTART;TZID=America/New_York:20231012T170000
DTEND;TZID=America/New_York:20231012T200000
DTSTAMP:20260420T194617
CREATED:20230925T171723Z
LAST-MODIFIED:20230925T171724Z
UID:2676-1697130000-1697140800@swflphc.com
SUMMARY:Cape Cabaret Phlocking
DESCRIPTION:Dueling Pianos will be our Entertainment Doors open at 5 with a Full menu. If you don’t want to eat there is a $10 minimum for the Bar. Must contact Darlenehesson@gmail.com
URL:https://swflphc.com/event/cape-cabaret-phlocking/
LOCATION:Cape Cabaret\, 4725 Vincennes BLVD\, Cape Coral\, Florida\, 33904
ATTACH;FMTTYPE=image/png:https://swflphc.com/wp-content/uploads/2017/12/Primary-Logo-PNG.png
END:VEVENT
BEGIN:VEVENT
DTSTART;TZID=America/New_York:20230831T180000
DTEND;TZID=America/New_York:20230831T210000
DTSTAMP:20260420T194617
CREATED:20230810T160010Z
LAST-MODIFIED:20230810T160010Z
UID:2644-1693504800-1693515600@swflphc.com
SUMMARY:August Phlocking Number Two
DESCRIPTION:Phlocking Number Two at FINS music provided by Rudy Cox!!
URL:https://swflphc.com/event/august-phlocking-number-two-2/
LOCATION:Fins\, 3422 Del Prado Blvd S\, Cape Coral\, 33904\, United States
ATTACH;FMTTYPE=image/jpeg:https://swflphc.com/wp-content/uploads/2021/04/FB_IMG_1619298347615.jpg
END:VEVENT
BEGIN:VEVENT
DTSTART;TZID=America/New_York:20230824T180000
DTEND;TZID=America/New_York:20230824T210000
DTSTAMP:20260420T194617
CREATED:20230810T160300Z
LAST-MODIFIED:20230810T160301Z
UID:2646-1692900000-1692910800@swflphc.com
SUMMARY:August Phlocking Number ONE
DESCRIPTION:The Club will be at Stevie Tomatoes Music provided by Josh Hoffman. Come out and have some Fun!
URL:https://swflphc.com/event/august-phlocking-number-one/
LOCATION:Stevie Tomatoes
ATTACH;FMTTYPE=image/jpeg:https://swflphc.com/wp-content/uploads/2017/02/Club-Logo-1.jpg
END:VEVENT
BEGIN:VEVENT
DTSTART;TZID=America/New_York:20230518T170000
DTEND;TZID=America/New_York:20230518T200000
DTSTAMP:20260420T194617
CREATED:20230510T172511Z
LAST-MODIFIED:20230510T172512Z
UID:2632-1684429200-1684440000@swflphc.com
SUMMARY:May Phlocking
DESCRIPTION:Wicked Dolphin Distillery get together.  Music Drinks
URL:https://swflphc.com/event/may-phlocking/
LOCATION:Wicked Dolphin Distillery\, 131 SW 3rd Place\, Cape Coral\, FL\, 33991\, United States
ATTACH;FMTTYPE=image/jpeg:https://swflphc.com/wp-content/uploads/2017/02/Club-Logo-1.jpg
END:VEVENT
BEGIN:VEVENT
DTSTART;TZID=America/New_York:20230421T173000
DTEND;TZID=America/New_York:20230421T203000
DTSTAMP:20260420T194617
CREATED:20230404T161000Z
LAST-MODIFIED:20230404T161000Z
UID:2628-1682098200-1682109000@swflphc.com
SUMMARY:April Phlocking Number 2
DESCRIPTION:Wicked Dolphin Phlocking Live Music and a Food Truck Bring your Own Chairs
URL:https://swflphc.com/event/april-phlocking-number-2/
LOCATION:Wicked Dolphin\, 131 SW 3rd PL\, Cape Coral\, FL\, 33991
ATTACH;FMTTYPE=image/jpeg:https://swflphc.com/wp-content/uploads/2023/01/parrot-photo1.jpg
END:VEVENT
BEGIN:VEVENT
DTSTART;TZID=America/New_York:20230406T170000
DTEND;TZID=America/New_York:20230406T200000
DTSTAMP:20260420T194617
CREATED:20230324T190145Z
LAST-MODIFIED:20230324T190146Z
UID:2624-1680800400-1680811200@swflphc.com
SUMMARY:April Phlocking
DESCRIPTION:Trying a new Location Cape Coral VFW all can attend. Music provided by Toe In The Sand ! Food will be available early only must order Food before 7 pm. Sandwich’s etc. all Booze and Food extremely reasonable. Event is outside under the new Tiki Bar. Please support your club!
URL:https://swflphc.com/event/april-phlocking-2/
LOCATION:Cape Coral VFW\, 4709 SE 11th PL\, Cape Coral\, Florida\, 33904
ATTACH;FMTTYPE=image/jpeg:https://swflphc.com/wp-content/uploads/2021/05/demo.jpg
END:VEVENT
BEGIN:VEVENT
DTSTART;TZID=America/New_York:20230318T080000
DTEND;TZID=America/New_York:20230318T170000
DTSTAMP:20260420T194617
CREATED:20230214T210313Z
LAST-MODIFIED:20230214T210313Z
UID:2619-1679126400-1679158800@swflphc.com
SUMMARY:Ronald McDonald House
DESCRIPTION:Helping with the Cooking at Ronald McDonald House. Only 4 Club members Allowed.
URL:https://swflphc.com/event/ronald-mcdonald-house-2/
LOCATION:FL
END:VEVENT
BEGIN:VEVENT
DTSTART;TZID=America/New_York:20230315T173000
DTEND;TZID=America/New_York:20230315T203000
DTSTAMP:20260420T194617
CREATED:20230214T210051Z
LAST-MODIFIED:20230214T210342Z
UID:2617-1678901400-1678912200@swflphc.com
SUMMARY:March Phlocking
DESCRIPTION:Paul Rousch will be playing for us at Fins . Come out and support your Club.
URL:https://swflphc.com/event/march-phlocking/
LOCATION:Fins\, 3422 Del Prado Blvd S\, Cape Coral\, 33904\, United States
ATTACH;FMTTYPE=image/jpeg:https://swflphc.com/wp-content/uploads/2021/04/FB_IMG_1619298250551.jpg
END:VEVENT
BEGIN:VEVENT
DTSTART;TZID=America/New_York:20230225T080000
DTEND;TZID=America/New_York:20230225T110000
DTSTAMP:20260420T194617
CREATED:20230112T161306Z
LAST-MODIFIED:20230112T161306Z
UID:2590-1677312000-1677322800@swflphc.com
SUMMARY:Street Cleanup
DESCRIPTION:February Street Cleanup come help cleanup our environment.   
URL:https://swflphc.com/event/street-cleanup-2/
LOCATION:Dan’s Fan City\, 3731 Del Prado Blvd S\, Cape Coral\, FL\, 33904\, United States
ATTACH;FMTTYPE=image/png:https://swflphc.com/wp-content/uploads/2017/12/Primary-Logo-PNG.png
END:VEVENT
BEGIN:VEVENT
DTSTART;TZID=America/New_York:20230218T190000
DTEND;TZID=America/New_York:20230218T220000
DTSTAMP:20260420T194617
CREATED:20230121T165055Z
LAST-MODIFIED:20230121T165056Z
UID:2596-1676746800-1676757600@swflphc.com
SUMMARY:Edison Festival of Light Grand Parade.
DESCRIPTION:Happy Friday Phlockers! \n \n\nBarb and I had a GREAT meeting today with Ryco Marine of Fort Myers!  They will provide us a Ford F250 pickup truck\, and a 25 foot pontoon boat on a trailer for us for the Edison Festival of Light Grand Parade!\n \nThe date of the parade is Saturday night\, February 18\, 2023.  We will Marshall at Fort Myers High School and ride in the boat\, truck and walk the parade route!  Parade starts at 7 pm and goes until 10 pm. \n \nWe need decorations for the boat!   I have green grass table skirts to go around the boat.  Several of you have given me inflatables as well but we need MORE!   Anything Parrot Head you can think of would be fabulous!  \n \nPlease let me know at susanoates63@gmail.com if you are interested in riding the float\, walking the parade route (we cannot THROW items from the float\, but walkers can hand out goodies so we’re looking to see how much to buy!!) or if you have any decorations (that can be returned to you after the parade!) for the pontoon.  \n \nMarshalling details will be forthcoming as we get closer to the actual parade date\, so stay tuned!\n \nI am so excited to participate in this Parade as a Club and I hope you are too!!\n \n—\n \n\nSusan Oates
URL:https://swflphc.com/event/edison-festival-of-light-grand-parade/
LOCATION:Fort Myers High School
ATTACH;FMTTYPE=image/png:https://swflphc.com/wp-content/uploads/2017/05/membershipIcon.png
END:VEVENT
END:VCALENDAR