BEGIN:VCALENDAR
VERSION:2.0
PRODID:-//Southwest Florida Parrot Head Club - ECPv6.15.20//NONSGML v1.0//EN
CALSCALE:GREGORIAN
METHOD:PUBLISH
X-WR-CALNAME:Southwest Florida Parrot Head Club
X-ORIGINAL-URL:https://swflphc.com
X-WR-CALDESC:Events for Southwest Florida Parrot Head Club
REFRESH-INTERVAL;VALUE=DURATION:PT1H
X-Robots-Tag:noindex
X-PUBLISHED-TTL:PT1H
BEGIN:VTIMEZONE
TZID:America/New_York
BEGIN:DAYLIGHT
TZOFFSETFROM:-0500
TZOFFSETTO:-0400
TZNAME:EDT
DTSTART:20250309T070000
END:DAYLIGHT
BEGIN:STANDARD
TZOFFSETFROM:-0400
TZOFFSETTO:-0500
TZNAME:EST
DTSTART:20251102T060000
END:STANDARD
BEGIN:DAYLIGHT
TZOFFSETFROM:-0500
TZOFFSETTO:-0400
TZNAME:EDT
DTSTART:20260308T070000
END:DAYLIGHT
BEGIN:STANDARD
TZOFFSETFROM:-0400
TZOFFSETTO:-0500
TZNAME:EST
DTSTART:20261101T060000
END:STANDARD
BEGIN:DAYLIGHT
TZOFFSETFROM:-0500
TZOFFSETTO:-0400
TZNAME:EDT
DTSTART:20270314T070000
END:DAYLIGHT
BEGIN:STANDARD
TZOFFSETFROM:-0400
TZOFFSETTO:-0500
TZNAME:EST
DTSTART:20271107T060000
END:STANDARD
END:VTIMEZONE
BEGIN:VEVENT
DTSTART;TZID=America/New_York:20260424T130000
DTEND;TZID=America/New_York:20260424T170000
DTSTAMP:20260420T072554
CREATED:20260420T013250Z
LAST-MODIFIED:20260420T013250Z
UID:3076-1777035600-1777050000@swflphc.com
SUMMARY:April Phlocking Two
DESCRIPTION:Come join us Scotty Bryan playing for us!!
URL:https://swflphc.com/event/april-phlocking-two/
LOCATION:Nauti Parrot\, 3448 Marinatown LN\, North Ft Myers\, FL\, United States
ATTACH;FMTTYPE=image/jpeg:https://swflphc.com/wp-content/uploads/2024/05/margaritaopen.jpg
END:VEVENT
END:VCALENDAR